BEGIN:VCALENDAR
VERSION:2.0
PRODID:-//Bratwurstmuseum - ECPv6.15.20//NONSGML v1.0//EN
CALSCALE:GREGORIAN
METHOD:PUBLISH
X-WR-CALNAME:Bratwurstmuseum
X-ORIGINAL-URL:https://bratwurstmuseum.de
X-WR-CALDESC:Veranstaltungen für Bratwurstmuseum
REFRESH-INTERVAL;VALUE=DURATION:PT1H
X-Robots-Tag:noindex
X-PUBLISHED-TTL:PT1H
BEGIN:VTIMEZONE
TZID:UTC
BEGIN:STANDARD
TZOFFSETFROM:+0000
TZOFFSETTO:+0000
TZNAME:UTC
DTSTART:20250101T000000
END:STANDARD
END:VTIMEZONE
BEGIN:VEVENT
DTSTART;TZID=UTC:20261101T173000
DTEND;TZID=UTC:20261101T220000
DTSTAMP:20260419T181912
CREATED:20251211T055022Z
LAST-MODIFIED:20251211T095052Z
UID:6229-1793554200-1793570400@bratwurstmuseum.de
SUMMARY:01.11. | Bratwursttheater „Bartverbot bei Hofe“
DESCRIPTION:Brat­wurst­thea­ter „Bart­ver­bot bei Hofe“ 17.30 Uhr Buf­fet | 20 Uhr Uhr Vorstellung\n\n\n\nEin haa­ri­ge Geschich­te von Lie­be und Ver­rat\, vom Kamp­fe um die Wahr­heit und natür­lich um die ein­zig wah­re Bratwurst.\n\n\n\n\n\n\n\nPreis: 29\,90 € inkl. Brat­wurst­schnäps­chen und schmack­haf­tem Andenken\nOptio­nal:\nThea­ter­buf­fet im Wursthaus\nPreis: 25\,00 €\n\n\n\n\n\n\nÜber­nach­tun­gen in unse­ren Part­ner­ho­tels mit 10% Rabatt für alle Theatergäste\n\n\n\n\nTel.: +49 (0) 3601 8571891 |e‑Mail: buchung@bratwurstmuseum.de \n\n\n 
URL:https://bratwurstmuseum.de/event/01-11-bratwursttheater-bartverbot-bei-hofe/
LOCATION:Thüringen
CATEGORIES:Theater,Theater2026
ATTACH;FMTTYPE=image/jpeg:https://bratwurstmuseum.de/wp-content/uploads/2025/10/Baertverbot-bei-Hofe_Bratwursttheater_Bratwurstmuseum_VA.jpg
END:VEVENT
BEGIN:VEVENT
DTSTART;VALUE=DATE:20261107
DTEND;VALUE=DATE:20261109
DTSTAMP:20260419T181912
CREATED:20251125T060042Z
LAST-MODIFIED:20251211T110023Z
UID:5457-1794009600-1794182399@bratwurstmuseum.de
SUMMARY:07–08.11. | 3. Wurstival
DESCRIPTION:Das 3. Wurs­ti­val am Bratwurstmuseum\n07.11.\n„Euro­pa auf dem Tisch“ – Ver­kos­tung sämt­li­cher euro­pä­isch geschütz­ter Wurst­sor­ten 19 Uhr \n08.11.\n08.11. 4. Euro­päi­scher Leber­wurst­kon­gress 13 Uhr \n \n\nUnser Schlacht­fest-Ange­bot:\nGROS­SES SCHLACHTEBUFFET\nmit lecke­ren Thü­rin­ger Hausschlachte-\nspe­zia­li­tä­ten aus Kes­sel und Rauch:\nBlut-und Leber­wurst­schle­cker­chen\, Preß­kopf\, Well­fleisch\, Grütz­wurst\, haus­ma­cher Knackwurst\,\nGehack­tes\, fri­schen Rost­würst­chen\, dazu gibt es Bau­ern­brot\, Salz­kar­tof­feln\, Schlach­te­kraut\, Rosen­kohl und fri­schen Salaten\n25\,00 €/Person \nTHÜ­RIN­GER SCHLACHTFESTKOMBI\nSchlach­te­buf­fet + 0\,4 Peterhänschen +\nBratwurstschnäpschen\n30\,00 €/Person \nPFÄL­ZER SAUMAGENTELLER\nmit Ullas Schin­ken­sauer­kraut und\nfri­schem Bauernbrot\n12\,90 €/Person \nPFÄL­ZER DOPPEL\nSau­ma­gen­tel­ler + 1 Glas Pfäl­zer Wein\nvom Mar­ga­re­then­hof aus Forst a.d. Weinstraße\n15\,00 €/Person \nSCHLACH­TE­BEU­TEL\nmit kes­sel­fri­scher Blut und Leber­wurst\, Preß­kopf und fri­scher Knackwurst\n20\,00 € \n\n\n\n\n\n\nTel.: +49 (0) 3601 8571891 |e‑Mail: buchung@bratwurstmuseum.de \n\n\n 
URL:https://bratwurstmuseum.de/event/07-08-11-3-wurstival/
LOCATION:Thüringen
CATEGORIES:Events
ATTACH;FMTTYPE=image/jpeg:https://bratwurstmuseum.de/wp-content/uploads/2024/03/Wurstival_im-Bratwurstmuseum_mit-Leberwurstkongress_VA-web.jpg
END:VEVENT
BEGIN:VEVENT
DTSTART;TZID=UTC:20261128T100000
DTEND;TZID=UTC:20261128T140000
DTSTAMP:20260419T181912
CREATED:20251125T062045Z
LAST-MODIFIED:20251211T110851Z
UID:6239-1795860000-1795874400@bratwurstmuseum.de
SUMMARY:28.11. | Erlebnis Bratwurstküche
DESCRIPTION:Lüf­ten Sie das Geheim­nis der Thü­rin­ger Brat­wurst und stel­len Sie unter fach­ge­rech­ter Anlei­tung Ihre eige­ne Brat­wurst her. Lehr­reich und lustig!\n \n\nDAS ERWAR­TET SIE:\nBegrü­ßungs­ge­tränk\nGeführ­ter Rund­gang im Bratwurstmuseum\nBrat­wurst­kurs in unse­rer neu­en Bratwurstküche \n\nHer­rich­ten des Flei­sches\, Abwie­gen von Salz und Gewür­zen\, Bedie­nen der Wurst­ma­schi­nen\, Wür­zen und Men­gen des Brat­wurst­bräts\, Abfül­len der Würste\nMetz­ge­r­im­biss mit fri­schem Wurst­brät und Gehack­tem in der Pause\nThü­rin­ger Grill­ver­gnü­gen zum Abschluss mit fri­scher Brat­wurst ver­schie­de­nen Bei­la­gen und Desserts\nWurst­sin­gen mit Bratwurstschnäpschen\n\nJeder Teil­neh­mer erhält 10 selbst­her­ge­stell­te Thü­rin­ger Brat­würs­te\, das Brat­wurst­di­plom und unser Thü­rin­ger Brat­wurst-Ein­mal­eins mit Brat­wurst­re­zep­ten\, Sprü­chen und Liedern \nPreis: 99\,00 €/Gast\ninkl. aller Geträn­ke (außer Spi­ri­tuo­sen)\, Dau­er: 4 Std. \n\n \n\n\nZusätz­lich sind indi­vi­du­el­le Buchun­gen für Grup­pen von 8 bis 15 Per­so­nen möglich.
URL:https://bratwurstmuseum.de/event/28-11-erlebnis-bratwurstkueche/
LOCATION:Brat­wurst­mu­se­um\, Am Stadtwald 60\, Mühlhausen\, Thüringen\, 99974\, Deutschland
CATEGORIES:Bratwurstkueche,Events
ATTACH;FMTTYPE=image/jpeg:https://bratwurstmuseum.de/wp-content/uploads/2024/12/Erlebnis-Bratwurstkueche.jpg
END:VEVENT
BEGIN:VEVENT
DTSTART;VALUE=DATE:20261128
DTEND;VALUE=DATE:20261129
DTSTAMP:20260419T181912
CREATED:20251125T061034Z
LAST-MODIFIED:20251211T111204Z
UID:6235-1795824000-1795910399@bratwurstmuseum.de
SUMMARY:28.11. | Mühlhäuser Winterlichter
DESCRIPTION:4. Mühl­häu­ser Winterlichter\nDer Brat­wurst­weih­nachts­markt mit Eisbahn\nGeöff­net an allen Advents­wo­chen­en­den von 10.00 Uhr–22.00 Uhr\n\nWeih­nacht­li­che Vor­freu­de erle­ben auf unse­ren Mühl­häu­ser Win­ter­lich­tern\, dem größ­ten über­dach­ten Weih­nachts­markt Thüringens.\nEs erwar­tet Sie das beson­de­re Flair unse­res Brat­wurst­weih­nachts­mark­tes mit lecke­ren Spei­sen und Geträn­ken\, außer­ge­wöhn­li­chen Geschenk­ideen und bezau­bern­den Weihnachtsshows. \n\n\nÖFF­NUNGS­ZEI­TEN:\nTäg­lich vom 29.11. bis 28.02.\n10 bis 20 Uhr\nam 24.12. geschlossen\n25. und 26.12. bis 17 Uhr \nFür Schul­klas­sen\nAus­lei­he Schlitt­schu­he und Eis­bahn­nut­zung für 2 h zusam­men: 8 €\nBetreu­er\, Leh­rer\, Erzie­her bekom­men frei­en Eintritt.\nAlle Kin­der bekom­men einen Frucht­punsch geschenkt. \n  \n\n\n			\n				\n			\n			\n				\n			\n		\n\n\n 
URL:https://bratwurstmuseum.de/event/muehlhaeuser-winterlichter/
LOCATION:Brat­wurst­mu­se­um\, Am Stadtwald 60\, Mühlhausen\, Thüringen\, 99974\, Deutschland
CATEGORIES:Events
ATTACH;FMTTYPE=image/png:https://bratwurstmuseum.de/wp-content/uploads/2025/12/Muehlhaeuser-Winterlichter-2026_HeroHeading.png
END:VEVENT
BEGIN:VEVENT
DTSTART;VALUE=DATE:20261129
DTEND;VALUE=DATE:20261130
DTSTAMP:20260419T181912
CREATED:20251125T062523Z
LAST-MODIFIED:20251211T111319Z
UID:6244-1795910400-1795996799@bratwurstmuseum.de
SUMMARY:29.11. | Mühlhäuser Winterlichter
DESCRIPTION:4. Mühl­häu­ser Winterlichter\nDer Brat­wurst­weih­nachts­markt mit Eisbahn\nGeöff­net an allen Advents­wo­chen­en­den von 10.00 Uhr–22.00 Uhr\n\nWeih­nacht­li­che Vor­freu­de erle­ben auf unse­ren Mühl­häu­ser Win­ter­lich­tern\, dem größ­ten über­dach­ten Weih­nachts­markt Thüringens.\nEs erwar­tet Sie das beson­de­re Flair unse­res Brat­wurst­weih­nachts­mark­tes mit lecke­ren Spei­sen und Geträn­ken\, außer­ge­wöhn­li­chen Geschenk­ideen und bezau­bern­den Weihnachtsshows. \n\n\nÖFF­NUNGS­ZEI­TEN:\nTäg­lich vom 29.11. bis 28.02.\n10 bis 20 Uhr\nam 24.12. geschlossen\n25. und 26.12. bis 17 Uhr \nFür Schul­klas­sen\nAus­lei­he Schlitt­schu­he und Eis­bahn­nut­zung für 2 h zusam­men: 8 €\nBetreu­er\, Leh­rer\, Erzie­her bekom­men frei­en Eintritt.\nAlle Kin­der bekom­men einen Frucht­punsch geschenkt. \n  \n\n\n			\n				\n			\n			\n				\n			\n		\n\n\n 
URL:https://bratwurstmuseum.de/event/29-11-muehlhaeuser-winterlichter-2/
LOCATION:Brat­wurst­mu­se­um\, Am Stadtwald 60\, Mühlhausen\, Thüringen\, 99974\, Deutschland
CATEGORIES:Events
ATTACH;FMTTYPE=image/png:https://bratwurstmuseum.de/wp-content/uploads/2025/12/Muehlhaeuser-Winterlichter-2026_HeroHeading.png
END:VEVENT
BEGIN:VEVENT
DTSTART;TZID=UTC:20261129T100000
DTEND;TZID=UTC:20261129T140000
DTSTAMP:20260419T181912
CREATED:20251125T063026Z
LAST-MODIFIED:20251211T111015Z
UID:6242-1795946400-1795960800@bratwurstmuseum.de
SUMMARY:29.11. | Erlebnis Bratwurstküche
DESCRIPTION:Lüf­ten Sie das Geheim­nis der Thü­rin­ger Brat­wurst und stel­len Sie unter fach­ge­rech­ter Anlei­tung Ihre eige­ne Brat­wurst her. Lehr­reich und lustig!\n \n\nDAS ERWAR­TET SIE:\nBegrü­ßungs­ge­tränk\nGeführ­ter Rund­gang im Bratwurstmuseum\nBrat­wurst­kurs in unse­rer neu­en Bratwurstküche \n\nHer­rich­ten des Flei­sches\, Abwie­gen von Salz und Gewür­zen\, Bedie­nen der Wurst­ma­schi­nen\, Wür­zen und Men­gen des Brat­wurst­bräts\, Abfül­len der Würste\nMetz­ge­r­im­biss mit fri­schem Wurst­brät und Gehack­tem in der Pause\nThü­rin­ger Grill­ver­gnü­gen zum Abschluss mit fri­scher Brat­wurst ver­schie­de­nen Bei­la­gen und Desserts\nWurst­sin­gen mit Bratwurstschnäpschen\n\nJeder Teil­neh­mer erhält 10 selbst­her­ge­stell­te Thü­rin­ger Brat­würs­te\, das Brat­wurst­di­plom und unser Thü­rin­ger Brat­wurst-Ein­mal­eins mit Brat­wurst­re­zep­ten\, Sprü­chen und Liedern \nPreis: 99\,00 €/Gast\ninkl. aller Geträn­ke (außer Spi­ri­tuo­sen)\, Dau­er: 4 Std. \n\n \n\n\nZusätz­lich sind indi­vi­du­el­le Buchun­gen für Grup­pen von 8 bis 15 Per­so­nen möglich.
URL:https://bratwurstmuseum.de/event/29-11-erlebnis-bratwurstkueche/
LOCATION:Brat­wurst­mu­se­um\, Am Stadtwald 60\, Mühlhausen\, Thüringen\, 99974\, Deutschland
CATEGORIES:Bratwurstkueche,Events
ATTACH;FMTTYPE=image/jpeg:https://bratwurstmuseum.de/wp-content/uploads/2024/12/Erlebnis-Bratwurstkueche.jpg
END:VEVENT
END:VCALENDAR