BEGIN:VCALENDAR
VERSION:2.0
PRODID:-//Bratwurstmuseum - ECPv6.15.20//NONSGML v1.0//EN
CALSCALE:GREGORIAN
METHOD:PUBLISH
X-WR-CALNAME:Bratwurstmuseum
X-ORIGINAL-URL:https://bratwurstmuseum.de
X-WR-CALDESC:Veranstaltungen für Bratwurstmuseum
REFRESH-INTERVAL;VALUE=DURATION:PT1H
X-Robots-Tag:noindex
X-PUBLISHED-TTL:PT1H
BEGIN:VTIMEZONE
TZID:UTC
BEGIN:STANDARD
TZOFFSETFROM:+0000
TZOFFSETTO:+0000
TZNAME:UTC
DTSTART:20240101T000000
END:STANDARD
END:VTIMEZONE
BEGIN:VEVENT
DTSTART;TZID=UTC:20250921T100000
DTEND;TZID=UTC:20251020T140000
DTSTAMP:20260421T100605
CREATED:20240320T121658Z
LAST-MODIFIED:20250718T092656Z
UID:5798-1758448800-1760968800@bratwurstmuseum.de
SUMMARY:Erlebnis Bratwurstküche | 21.09.25
DESCRIPTION:Lüf­ten Sie das Geheim­nis der Thü­rin­ger Brat­wurst und stel­len Sie unter fach­ge­rech­ter Anlei­tung Ihre eige­ne Brat­wurst her. Lehr­reich und lustig!\n \n\nDAS ERWAR­TET SIE:\nBegrü­ßungs­ge­tränk\nGeführ­ter Rund­gang im Bratwurstmuseum\nBrat­wurst­kurs in unse­rer neu­en Bratwurstküche \n\nHer­rich­ten des Flei­sches\, Abwie­gen von Salz und Gewür­zen\, Bedie­nen der Wurst­ma­schi­nen\, Wür­zen und Men­gen des Brat­wurst­bräts\, Abfül­len der Würste\nMetz­ge­r­im­biss mit fri­schem Wurst­brät und Gehack­tem in der Pause\nThü­rin­ger Grill­ver­gnü­gen zum Abschluss mit fri­scher Brat­wurst ver­schie­de­nen Bei­la­gen und Desserts\nWurst­sin­gen mit Bratwurstschnäpschen\n\nJeder Teil­neh­mer erhält 10 selbst­her­ge­stell­te Thü­rin­ger Brat­würs­te\, das Brat­wurst­di­plom und unser Thü­rin­ger Brat­wurst-Ein­mal­eins mit Brat­wurst­re­zep­ten\, Sprü­chen und Liedern \nPreis: 99\,00 €/Gast\ninkl. aller Geträn­ke (außer Spi­ri­tuo­sen)\, Dau­er: 4 Std. \n\n \n\n\nZusätz­lich sind indi­vi­du­el­le Buchun­gen für Grup­pen von 8 bis 15 Per­so­nen möglich.
URL:https://bratwurstmuseum.de/event/erlebnis-bratwurstkueche-21-09-25/
LOCATION:Brat­wurst­mu­se­um\, Am Stadtwald 60\, Mühlhausen\, Thüringen\, 99974\, Deutschland
CATEGORIES:Bratwurstkueche,Events
ATTACH;FMTTYPE=image/jpeg:https://bratwurstmuseum.de/wp-content/uploads/2024/12/Erlebnis-Bratwurstkueche.jpg
END:VEVENT
BEGIN:VEVENT
DTSTART;TZID=UTC:20251004T190000
DTEND;TZID=UTC:20251004T210000
DTSTAMP:20260421T100605
CREATED:20240320T122010Z
LAST-MODIFIED:20250528T121726Z
UID:5700-1759604400-1759611600@bratwurstmuseum.de
SUMMARY:04.10. | Kabarett "Die Arche": Mann mit Grill sucht Frau mit Kohle
DESCRIPTION:Kaba­rett “Die Arche”: Mann mit Grill sucht Frau mit Kohle\n\nLus­ti­ges über Flei­sches­lust und Umwelt­frust\, über lüs­ter­ne Ökos\, unaus­ge­füll­te Frau­en und einen Fleisch­lieb­ha­ber\, der sich outet. Am Grill kann man über alles reden und lachen.\nAnne­ma­rie Schmidt (neu auf der „Arche“-Bühne)\, Nico­las Jan­tosch und Andre­as Pflug wer­den weder ras­ten noch ros­ten. Grill­an­tes Kaba­rett von medi­um bis durch. Das Pro­gramm ist ein Gemein­schafts­pro­jekt des Göß­nit­zer Kaba­retts „Nör­gel­sä­cke“ mit Ulf Annel\, der auch in Erfurt Regie bei die­sem Pro­gramm führ­te. Musi­ka­lisch gibt Dani­el Gracz / Tim Ahl­feld sei­nen Senf dazu.\n\n\nmit Anne­ma­rie Schmidt\, Nico­las Jan­tosch und Andre­as Pflug am Kla­vier Dani­el Gracz / Tim Ahlfeld\nRegie: Ulf Annel\n\nFotos: Lutz Edelhoff\n\n\n\n\n\nTickets: 29\,90 inkl. Thü­rin­ger Bratwurst
URL:https://bratwurstmuseum.de/event/04-10-kabarett-die-arche-mann-mit-grill-sucht-frau-mit-kohle/
LOCATION:Brat­wurst­mu­se­um\, Am Stadtwald 60\, Mühlhausen\, Thüringen\, 99974\, Deutschland
CATEGORIES:Events
ATTACH;FMTTYPE=image/jpeg:https://bratwurstmuseum.de/wp-content/uploads/2024/03/Mann-mit-Grill_Die-Arche_Kabarett-im-Bratwurstmuseum_VA.jpg
END:VEVENT
END:VCALENDAR